BEGIN:VCALENDAR
VERSION:2.0
PRODID:-//Dombau Wien - ECPv5.9.1//NONSGML v1.0//EN
CALSCALE:GREGORIAN
METHOD:PUBLISH
X-WR-CALNAME:Dombau Wien
X-ORIGINAL-URL:https://www.dombauwien.at
X-WR-CALDESC:Veranstaltungen für Dombau Wien
BEGIN:VTIMEZONE
TZID:Europe/Vienna
BEGIN:DAYLIGHT
TZOFFSETFROM:+0100
TZOFFSETTO:+0200
TZNAME:CEST
DTSTART:20200329T010000
END:DAYLIGHT
BEGIN:STANDARD
TZOFFSETFROM:+0200
TZOFFSETTO:+0100
TZNAME:CET
DTSTART:20201025T010000
END:STANDARD
END:VTIMEZONE
BEGIN:VEVENT
DTSTART;TZID=Europe/Vienna:20200303T103000
DTEND;TZID=Europe/Vienna:20200303T170000
DTSTAMP:20260419T215730
CREATED:20200303T171826Z
LAST-MODIFIED:20200303T172651Z
UID:2231-1583231400-1583254800@www.dombauwien.at
SUMMARY:VA 3
DESCRIPTION:
URL:https://www.dombauwien.at/kalender/va-3/
CATEGORIES:Führung
END:VEVENT
END:VCALENDAR