BEGIN:VCALENDAR
VERSION:2.0
PRODID:-//Dombau Wien - ECPv5.9.1//NONSGML v1.0//EN
CALSCALE:GREGORIAN
METHOD:PUBLISH
X-WR-CALNAME:Dombau Wien
X-ORIGINAL-URL:https://www.dombauwien.at
X-WR-CALDESC:Veranstaltungen für Dombau Wien
BEGIN:VTIMEZONE
TZID:Europe/Vienna
BEGIN:DAYLIGHT
TZOFFSETFROM:+0100
TZOFFSETTO:+0200
TZNAME:CEST
DTSTART:20200329T010000
END:DAYLIGHT
BEGIN:STANDARD
TZOFFSETFROM:+0200
TZOFFSETTO:+0100
TZNAME:CET
DTSTART:20201025T010000
END:STANDARD
END:VTIMEZONE
BEGIN:VEVENT
DTSTART;TZID=Europe/Vienna:20200303T080000
DTEND;TZID=Europe/Vienna:20200303T170000
DTSTAMP:20260419T235243
CREATED:20200303T094638Z
LAST-MODIFIED:20200303T165942Z
UID:2209-1583222400-1583254800@www.dombauwien.at
SUMMARY:Veranstaltung 1
DESCRIPTION:
URL:https://www.dombauwien.at/kalender/testveranstaltung/
LOCATION:Dom\, Stefansplatz\, Wien\, Österreich
CATEGORIES:Veranstaltung
END:VEVENT
END:VCALENDAR