BEGIN:VCALENDAR
VERSION:2.0
PRODID:-//Dombau Wien - ECPv5.9.1//NONSGML v1.0//EN
CALSCALE:GREGORIAN
METHOD:PUBLISH
X-WR-CALNAME:Dombau Wien
X-ORIGINAL-URL:https://www.dombauwien.at
X-WR-CALDESC:Veranstaltungen für Dombau Wien
BEGIN:VTIMEZONE
TZID:Europe/Vienna
BEGIN:DAYLIGHT
TZOFFSETFROM:+0100
TZOFFSETTO:+0200
TZNAME:CEST
DTSTART:20200329T010000
END:DAYLIGHT
BEGIN:STANDARD
TZOFFSETFROM:+0200
TZOFFSETTO:+0100
TZNAME:CET
DTSTART:20201025T010000
END:STANDARD
END:VTIMEZONE
BEGIN:VEVENT
DTSTART;TZID=Europe/Vienna:20200305T190000
DTEND;TZID=Europe/Vienna:20200305T220000
DTSTAMP:20260419T200618
CREATED:20200305T112059Z
LAST-MODIFIED:20200305T113543Z
UID:2236-1583434800-1583445600@www.dombauwien.at
SUMMARY:Test
DESCRIPTION:alles wird untersucht
URL:https://www.dombauwien.at/kalender/test/
LOCATION:Dom – Domdachboden
CATEGORIES:Konzert,Veranstaltung
END:VEVENT
END:VCALENDAR